BEGIN:VCALENDAR
VERSION:2.0
PRODID:-//Creative Sessions - ECPv6.15.20//NONSGML v1.0//EN
CALSCALE:GREGORIAN
METHOD:PUBLISH
X-WR-CALNAME:Creative Sessions
X-ORIGINAL-URL:https://creativesessions.art
X-WR-CALDESC:Events for Creative Sessions
REFRESH-INTERVAL;VALUE=DURATION:PT1H
X-Robots-Tag:noindex
X-PUBLISHED-TTL:PT1H
BEGIN:VTIMEZONE
TZID:UTC
BEGIN:STANDARD
TZOFFSETFROM:+0000
TZOFFSETTO:+0000
TZNAME:UTC
DTSTART:20180101T000000
END:STANDARD
END:VTIMEZONE
BEGIN:VEVENT
DTSTART;TZID=UTC:20190914T160000
DTEND;TZID=UTC:20190914T183000
DTSTAMP:20260423T115414
CREATED:20190831T054917Z
LAST-MODIFIED:20210310T173905Z
UID:272-1568476800-1568485800@creativesessions.art
SUMMARY:Flexible Life Drawing Session
DESCRIPTION:Join us for a flexible life drawing session. We will draw for 2 hours a nude model in various short and long poses! The model will take flexible and academic poses! At the end we will discuss over our drawings and know each other more! More info and photos here:\nhttps://creativesessions.art/sessions/flexible-life-drawing/ \nCost:\n8 Euros Discounted Price\, if you press the Going Button on Meetup!\n9 Euros Normal Price.\nPay with Cash or Card at the event.\n[ Press the “Going” button to reserve a spot ]\nhttps://www.meetup.com/creativesessions/events/264447888/ \nSession Structure:\n-Part A Poses\, 60 mins\n-Break\, 15 mins\n-Part B Poses\, 60 mins\n-Discussion \nDisclaimer!\nBy attending this event you agree that photos & videos are allowed to be taken. These media might be used in social media posts\, for the future promotion of events like this. \n// DEUTSCH //\nBegleite uns in einer lockere Aktzeichnung Session! Wir werden für 2 Stunden ein Aktmodell in verschiedenen kurze und längen Posen zeichnen! Das Modell werden flexible Posen haben! Gegen Ende der Session besprechen und beurteilen wir die Zeichnungen. Mehr Info und Photos hier:\nhttps://creativesessions.art/sessions/flexible-life-drawing-de/ \nKosten:\n8 Euro Rabattpreis\, wenn du die “Going” Taste bei Meetup drückst!\n9 Euro Normaler Preis.\nBargeld oder Karte\, zahlen Sie bei der Veranstaltung.\n[ Zum reservieren drückt die “Going” Taste ]\nhttps://www.meetup.com/creativesessions/events/264447888/ \nSession Struktur:\n-Teil A Posen\, 60 min\n-Pause\, 15 min\n-Teil B Posen\, 60 min\n-Diskussion \nBitte Beachten!\nMit der Teilnahme stimmst du zu\, dass Fotos & Videos gemacht werden dürfen! Es besteht die Möglichkeit\, dass diese Medien in Social Media Posts erscheinen um zukünftige Veranstaltungen wie diese zu promoten!
URL:https://creativesessions.art/event/flexible-life-drawing-session-4/
LOCATION:The Word\, Willmanndamm 4\, Berlin\, 10827\, Germany
CATEGORIES:Adult Content,Life Drawing,Ticket
ATTACH;FMTTYPE=image/jpeg:https://creativesessions.art/wp-content/uploads/2019/08/Meetup_Banner09b.jpg
END:VEVENT
BEGIN:VEVENT
DTSTART;TZID=UTC:20190914T123000
DTEND;TZID=UTC:20190914T153000
DTSTAMP:20260423T115414
CREATED:20190831T053723Z
LAST-MODIFIED:20210310T173905Z
UID:254-1568464200-1568475000@creativesessions.art
SUMMARY:Small Portrait Drawing Session
DESCRIPTION:Join us for a small portrait drawing session. We will draw for ~3 hour each other! You can join at any time during the event. You can also choose to only pose for the others!\nMore Info and photos here:\nhttps://creativesessions.art/sessions/small-portrait-drawing/ \nThe event is free! \nIs it suitable for beginners?\nYes! \nWhat should I bring?\nBring your own art materials. Anything is allowed. We expect that most people will use pencils\, charcoal and watercolors! \nDisclaimer!\nBy attending this event you agree that a few photos are allowed to be taken. These photos might be used in social media posts\, for the future promotion of events like this. \n// DEUTSCH //\nBegleite uns in einer kleiner Porträt Drawing Session! Wir werden für ca. 2 Stunden gegenseitig zeichnen! Sie können jederzeit während der Veranstaltung teilnehmen. Sie können auch\, nur für die anderen posieren! Mehr Infos und Photos hier:\nhttps://creativesessions.art/sessions/small-portrait-drawing-de/ \nFrei! \nIst die Veranstaltung für Anfänger geeignet?\nJa! \nWas soll ich mitbringen?\nBring dein eigenes Kunstmaterial mit! Alles ist erlaubt! Bleistift\, Wasserfarben\, Pastel u.s.w. Staffelei und Zeichenbrett stellen wir zur Verfügung. \nBitte Beachten!\nMit der Teilnahme stimmst du zu\, dass einige Fotos gemacht werden dürfen! Es besteht die Möglichkeit\, dass einige Bilder in Social Media Posts erscheinen um zukünftige Veranstaltungen wie diese zu promoten!
URL:https://creativesessions.art/event/small-portrait-drawing-session-4/
LOCATION:The Word\, Willmanndamm 4\, Berlin\, 10827\, Germany
CATEGORIES:Free,Kids Friendly,Pet Friendly,Portrait Drawing
ATTACH;FMTTYPE=image/jpeg:https://creativesessions.art/wp-content/uploads/2019/08/69028882_683549845389972_8548037886107189248_o.jpg
END:VEVENT
BEGIN:VEVENT
DTSTART;TZID=UTC:20190908T110000
DTEND;TZID=UTC:20190908T140000
DTSTAMP:20260423T115414
CREATED:20190826T185445Z
LAST-MODIFIED:20210310T173905Z
UID:205-1567940400-1567951200@creativesessions.art
SUMMARY:MHAS Drawing Session
DESCRIPTION:Join us at our weekly drawing session in the lovely and cosy café “Mein Haus am See” in Berlin Mitte (near U-Bahn Rosenthaler Platz). \nThe drawing session works as follows: \n\nWe meet from 11am on Sundays\nWe usually do warm ups (1 minute poses)\nEverybody writes their name on a piece of paper\nThe person\, whose name was picked\, poses for 10 minutes.\n\nWe usually finish around 13.30-14:00 and have a couple of breaks during the session. During the breaks or after the session\, we usually share our drawings but this is not obligatory. \nAll levels are welcome\, from total beginners and drawing enthusiasts to professional artists\, we are all here to learn and improve! Just make sure you bring your art supplies. And once again\, there are no teachers\, no competition\, only creativity\, fun\, tasty coffee and interesting conversations! \nThe event is free of charge. Only we kindly ask you to buy at least one drink at the cafe as a courtesy for the chance to draw there. \nFeel free to invite people and let our little group expand\, the more the merrier! \n\nDrawing Paper\nOptionally some of the participants could print and bring some drawing papers that we use at the event. You print and cut them with scissors. \nFind the free pdf here: https://drive.google.com/file/d/1o8YyiOlxvPeOas7QIqF2M30NFoMPnOrP
URL:https://creativesessions.art/event/mhas-drawing-session-3/
LOCATION:The Word\, Willmanndamm 4\, Berlin\, 10827\, Germany
CATEGORIES:Free,Kids Friendly,Pet Friendly,Portrait Drawing
ATTACH;FMTTYPE=image/jpeg:https://creativesessions.art/wp-content/uploads/2019/08/65915354_662713034140320_7095571309144309760_o.jpg
END:VEVENT
BEGIN:VEVENT
DTSTART;TZID=UTC:20190907T160000
DTEND;TZID=UTC:20190907T183000
DTSTAMP:20260423T115414
CREATED:20190831T054445Z
LAST-MODIFIED:20210310T173905Z
UID:262-1567872000-1567881000@creativesessions.art
SUMMARY:Flexible Life Drawing Session
DESCRIPTION:Join us for a flexible life drawing session. We will draw for 2 hours a nude model in various short and long poses! The model will take flexible and academic poses! At the end we will discuss over our drawings and know each other more! More info and photos here:\nhttps://creativesessions.art/sessions/flexible-life-drawing/ \nCost:\n8 Euros Discounted Price\, if you press the Going Button on Meetup!\n9 Euros Normal Price.\nPay with Cash or Card at the event.\n[ Press the “Going” button to reserve a spot ]\nhttps://www.meetup.com/creativesessions/events/264447863/ \nSession Structure:\n-Part A Poses\, 60 mins\n-Break\, 15 mins\n-Part B Poses\, 60 mins\n-Discussion \nDisclaimer!\nBy attending this event you agree that photos & videos are allowed to be taken. These media might be used in social media posts\, for the future promotion of events like this. \n// DEUTSCH //\nBegleite uns in einer lockere Aktzeichnung Session! Wir werden für 2 Stunden ein Aktmodell in verschiedenen kurze und längen Posen zeichnen! Das Modell werden flexible Posen haben! Gegen Ende der Session besprechen und beurteilen wir die Zeichnungen. Mehr Info und Photos hier:\nhttps://creativesessions.art/sessions/flexible-life-drawing-de/ \nKosten:\n8 Euro Rabattpreis\, wenn du die “Going” Taste bei Meetup drückst!\n9 Euro Normaler Preis.\nBargeld oder Karte\, zahlen Sie bei der Veranstaltung.\n[ Zum reservieren drückt die “Going” Taste ]\nwww.meetup.com/creativesessions/events/264447863 \nSession Struktur:\n-Teil A Posen\, 60 min\n-Pause\, 15 min\n-Teil B Posen\, 60 min\n-Diskussion \nBitte Beachten!\nMit der Teilnahme stimmst du zu\, dass Fotos & Videos gemacht werden dürfen! Es besteht die Möglichkeit\, dass diese Medien in Social Media Posts erscheinen um zukünftige Veranstaltungen wie diese zu promoten!
URL:https://creativesessions.art/event/flexible-life-drawing-session-3/
LOCATION:The Word\, Willmanndamm 4\, Berlin\, 10827\, Germany
CATEGORIES:Adult Content,Life Drawing,Ticket
ATTACH;FMTTYPE=image/jpeg:https://creativesessions.art/wp-content/uploads/2019/08/Meetup_Banner09a.jpg
END:VEVENT
BEGIN:VEVENT
DTSTART;TZID=UTC:20190907T123000
DTEND;TZID=UTC:20190907T153000
DTSTAMP:20260423T115414
CREATED:20190831T053549Z
LAST-MODIFIED:20210310T173905Z
UID:252-1567859400-1567870200@creativesessions.art
SUMMARY:Small Portrait Drawing Session
DESCRIPTION:Join us for a small portrait drawing session. We will draw for ~3 hour each other! You can join at any time during the event. You can also choose to only pose for the others!\nMore Info and photos here:\nhttps://creativesessions.art/sessions/small-portrait-drawing/ \nThe event is free! \nIs it suitable for beginners?\nYes! \nWhat should I bring?\nBring your own art materials. Anything is allowed. We expect that most people will use pencils\, charcoal and watercolors! \nDisclaimer!\nBy attending this event you agree that a few photos are allowed to be taken. These photos might be used in social media posts\, for the future promotion of events like this. \n// DEUTSCH //\nBegleite uns in einer kleiner Porträt Drawing Session! Wir werden für ca. 2 Stunden gegenseitig zeichnen! Sie können jederzeit während der Veranstaltung teilnehmen. Sie können auch\, nur für die anderen posieren! Mehr Infos und Photos hier:\nhttps://creativesessions.art/sessions/small-portrait-drawing-de/ \nFrei! \nIst die Veranstaltung für Anfänger geeignet?\nJa! \nWas soll ich mitbringen?\nBring dein eigenes Kunstmaterial mit! Alles ist erlaubt! Bleistift\, Wasserfarben\, Pastel u.s.w. Staffelei und Zeichenbrett stellen wir zur Verfügung. \nBitte Beachten!\nMit der Teilnahme stimmst du zu\, dass einige Fotos gemacht werden dürfen! Es besteht die Möglichkeit\, dass einige Bilder in Social Media Posts erscheinen um zukünftige Veranstaltungen wie diese zu promoten!
URL:https://creativesessions.art/event/small-portrait-drawing-session-3/
LOCATION:The Word\, Willmanndamm 4\, Berlin\, 10827\, Germany
CATEGORIES:Free,Kids Friendly,Pet Friendly,Portrait Drawing
ATTACH;FMTTYPE=image/jpeg:https://creativesessions.art/wp-content/uploads/2019/08/67627647_683549655389991_3441745504046678016_o.jpg
END:VEVENT
BEGIN:VEVENT
DTSTART;TZID=UTC:20190901T110000
DTEND;TZID=UTC:20190901T140000
DTSTAMP:20260423T115414
CREATED:20190819T175848Z
LAST-MODIFIED:20210310T173905Z
UID:121-1567335600-1567346400@creativesessions.art
SUMMARY:MHAS Drawing Session
DESCRIPTION:Join us at our weekly drawing session in the lovely and cosy café “Mein Haus am See” in Berlin Mitte (near U-Bahn Rosenthaler Platz). \nThe drawing session works as follows: \n\nWe meet from 11am on Sundays\nWe usually do warm ups (1 minute poses)\nEverybody writes their name on a piece of paper\nThe person\, whose name was picked\, poses for 10 minutes.\n\nWe usually finish around 13.30-14:00 and have a couple of breaks during the session. During the breaks or after the session\, we usually share our drawings but this is not obligatory. \nAll levels are welcome\, from total beginners and drawing enthusiasts to professional artists\, we are all here to learn and improve! Just make sure you bring your art supplies. And once again\, there are no teachers\, no competition\, only creativity\, fun\, tasty coffee and interesting conversations! \nThe event is free of charge. Only we kindly ask you to buy at least one drink at the cafe as a courtesy for the chance to draw there. \nFeel free to invite people and let our little group expand\, the more the merrier! \n\nDrawing Paper\nOptionally some of the participants could print and bring some drawing papers that we use at the event. You print and cut them with scissors. \nFind the free pdf here: https://drive.google.com/file/d/1o8YyiOlxvPeOas7QIqF2M30NFoMPnOrP
URL:https://creativesessions.art/event/mhas-drawing-session-2/
LOCATION:Mein Haus am See\, Brunnenstr. 197/198 - Ecke Torstr. 125\, Berlin\, 10119\, Germany
CATEGORIES:Free,Kids Friendly,Pet Friendly,Portrait Drawing
ATTACH;FMTTYPE=image/jpeg:https://creativesessions.art/wp-content/uploads/2019/08/65915354_662713034140320_7095571309144309760_o.jpg
END:VEVENT
BEGIN:VEVENT
DTSTART;TZID=UTC:20190831T160000
DTEND;TZID=UTC:20190831T183000
DTSTAMP:20260423T115414
CREATED:20190819T174853Z
LAST-MODIFIED:20210310T173905Z
UID:114-1567267200-1567276200@creativesessions.art
SUMMARY:Flexible Life Drawing Session
DESCRIPTION:[EN/DE]\nJoin us for a flexible life drawing session. We will draw for 2 hours a nude model in various short and long poses! The model will take flexible and academic poses! \nCost:\n8 Euros\nPay with Cash or Card at the event.\n[ Reserve a spot at the Ticket-Link ]\nhttps://www.meetup.com/creativesessions/events/263828443/ \nSession Structure:\n-Part A Poses\, 60 mins\n-Break\, 15 mins\n-Part B Poses\, 60 mins\n-Discussion \nAt the end we will discuss over our drawings and know each other more! \n// DEUTSCH //\nBegleite uns in einer lockere Aktzeichnung Session! Wir werden für 2 Stunden ein Aktmodell in verschiedenen kurze und längen Posen zeichnen! Das Modell werden flexible Posen haben! \nKosten:\n8 Euro\nBargeld oder Karte\, zahlen Sie bei der Veranstaltung.\n[ Reservieren Sie ein Ticket über den Meetup-Link ]\nhttps://www.meetup.com/creativesessions/events/263828443/ \nSession Struktur:\n-Teil A Posen\, 60 min\n-Pause\, 15 min\n-Teil B Posen\, 60 min\n-Diskussion \nGegen Ende der Session besprechen und beurteilen wir die Zeichnungen. \nFAQs\nTutor?\nThe drawing tutor for the event will be the artist Miltos Despoudis.\nCheck out his work here http://miltosdespoudis.gr \nWhere?\nAt “The.Word.Berlin” :\nThe word is a Literature Cafe and Lending Library\, Craft Beer Bar\, Event and Co-working space\, featuring books on Black\, P.O.C. and LGBTQ experience. \nIs it suitable for beginners?\nYes! Actually\, artists of all levels can do this kind of exercise. \nWhat should I bring?\nBring your own art materials. Anything is allowed. We expect that most people will use pencils\, charcoal and watercolors! We can provide wooden panels for support\, sizes 50×70\, and some easels! \nDisclaimer!\nBy attending this event you agree that photos & videos are allowed to be taken. These media might be used in social media posts\, for the future promotion of events like this. \n// DEUTSCH // \nKursleiter?\nDer Leiter der drawing- session ist der Künstler Miltos Despoudis.\nSchauen Sie sich seine Arbeit hier an:\nhttp://miltosdespoudis.gr \nWo?\nIm “The.Word.Berlin”.\nDas “The.Word.Berlin” ist ein Cafe\, Bar und Co-Working space mit einer kleinen Bibliothek für multikulturelle Interessenten und Bücher über Black\, P.O.C. und LGBTQ! \nIst die Veranstaltung für Anfänger geeignet?\nJa! Jeder der Lust am zeichnen hat kann mitmachen. \nWas soll ich mitbringen?\nBring dein eigenes Kunstmaterial mit! Alles ist erlaubt! Bleistift\, Wasserfarben\, Pastel u.s.w. Staffelei und Zeichenbrett stellen wir zur Verfügung. \nBitte Beachten!\nMit der Teilnahme stimmst du zu\, dass Fotos & Videos gemacht werden dürfen! Es besteht die Möglichkeit\, dass diese Medien in Social Media Posts erscheinen um zukünftige Veranstaltungen wie diese zu promoten! \nThe model to pose
URL:https://creativesessions.art/event/flexible-life-drawing-session-2/
LOCATION:The Word\, Willmanndamm 4\, Berlin\, 10827\, Germany
CATEGORIES:Adult Content,Life Drawing,Ticket
ATTACH;FMTTYPE=image/jpeg:https://creativesessions.art/wp-content/uploads/2019/08/68364855_683552455389711_5713414042601652224_o.jpg
END:VEVENT
BEGIN:VEVENT
DTSTART;TZID=UTC:20190831T123000
DTEND;TZID=UTC:20190831T153000
DTSTAMP:20260423T115414
CREATED:20190819T173617Z
LAST-MODIFIED:20210310T173905Z
UID:108-1567254600-1567265400@creativesessions.art
SUMMARY:Small Portrait Drawing Session
DESCRIPTION:[EN/DE]\nJoin us for an small portrait drawing session. We will draw for ~3 hours each other! You can join at any time during the event. You can also choose to only pose for the others! \nThe event is free! Please also Check-in at out Meetup page. It helps bringing more people! \nAfter two hours a life drawing session starts at the same place in another room. The life drawing is separate event that you will need to make an additional check in. Usually there is a small fee for it. \n// DEUTSCH // \nBegleite uns in einer kleiner Porträt Drawing Session! Wir werden für ca. 2 Stunden gegenseitig zeichnen! Sie können jederzeit während der Veranstaltung teilnehmen. Sie können auch\, nur für die anderen posieren! \nFrei! Bitte melde dich über unseren Meetup-Link an. Es hilft wirklich\, mehr Leute zu bringen! \nNach zwei Stunden beginnt eine Aktzeichnung an derselben Stelle in einem anderen Raum. Bei der Aktzeichnung handelt es sich um ein separates Ereignis\, für das Sie einen zusätzlichen Check-in durchführen müssen. Normalerweise wird dafür eine Ticketgebühr erhoben. \nFAQs\nTutor?\nThe drawing tutor for the event will be the artist Miltos Despoudis.\nCheck out his work here http://miltosdespoudis.gr \nWhere is it happening?\nAt “The.Word.Berlin” :\nThe word is a Literature Cafe and Lending Library\, Craft Beer Bar\, Event and Co-working space\, featuring books on Black\, P.O.C. and LGBTQ experience. \nIs it suitable for beginners?\nYes! \nWhat should I bring?\nBring your own art materials. Anything is allowed. We expect that most people will use pencils\, charcoal and watercolors! \nDisclaimer!\nBy attending this event you agree that a few photos are allowed to be taken. These photos might be used in social media posts\, for the future promotion of events like this. \n// DEUTSCH // \nKursleiter?\nDer Leiter der drawing- session ist der Künstler Miltos Despoudis.\nSchauen Sie sich seine Arbeit hier an:\nhttp://miltosdespoudis.gr \nWo?\nIm “The.Word.Berlin”.\nDas “The.Word.Berlin” ist ein Cafe\, Bar und Co-Working space mit einer kleinen Bibliothek für multikulturelle Interessenten und Bücher über Black\, P.O.C. und LGBTQ! \nIst die Veranstaltung für Anfänger geeignet?\nJa! \nWas soll ich mitbringen?\nBring dein eigenes Kunstmaterial mit! Alles ist erlaubt! Bleistift\, Wasserfarben\, Pastel u.s.w. Staffelei und Zeichenbrett stellen wir zur Verfügung. \nBitte Beachten!\nMit der Teilnahme stimmst du zu\, dass einige Fotos gemacht werden dürfen! Es besteht die Möglichkeit\, dass einige Bilder in Social Media Posts erscheinen um zukünftige Veranstaltungen wie diese zu promoten!
URL:https://creativesessions.art/event/small-portrait-drawing-session-2/
LOCATION:The Word\, Willmanndamm 4\, Berlin\, 10827\, Germany
CATEGORIES:Free,Kids Friendly,Pet Friendly,Portrait Drawing
ATTACH;FMTTYPE=image/jpeg:https://creativesessions.art/wp-content/uploads/2019/08/69028882_683549845389972_8548037886107189248_o.jpg
END:VEVENT
BEGIN:VEVENT
DTSTART;TZID=UTC:20190825T110000
DTEND;TZID=UTC:20190825T140000
DTSTAMP:20260423T115414
CREATED:20190819T175339Z
LAST-MODIFIED:20210310T173905Z
UID:117-1566730800-1566741600@creativesessions.art
SUMMARY:MHAS Drawing Session
DESCRIPTION:Join us at our weekly drawing session in the lovely and cosy café “Mein Haus am See” in Berlin Mitte (near U-Bahn Rosenthaler Platz). \nThe drawing session works as follows: \n\nWe meet from 11am on Sundays\nWe usually do warm ups (1 minute poses)\nEverybody writes their name on a piece of paper\nThe person\, whose name was picked\, poses for 10 minutes.\n\nWe usually finish around 13.30-14:00 and have a couple of breaks during the session. During the breaks or after the session\, we usually share our drawings but this is not obligatory. \nAll levels are welcome\, from total beginners and drawing enthusiasts to professional artists\, we are all here to learn and improve! Just make sure you bring your art supplies. And once again\, there are no teachers\, no competition\, only creativity\, fun\, tasty coffee and interesting conversations! \nThe event is free of charge. Only we kindly ask you to buy at least one drink at the cafe as a courtesy for the chance to draw there. \nFeel free to invite people and let our little group expand\, the more the merrier! \n\nDrawing Paper\nOptionally some of the participants could print and bring some drawing papers that we use at the event. You print and cut them with scissors. \nFind the free pdf here: https://drive.google.com/file/d/1o8YyiOlxvPeOas7QIqF2M30NFoMPnOrP
URL:https://creativesessions.art/event/mhas-drawing-session/
LOCATION:Mein Haus am See\, Brunnenstr. 197/198 - Ecke Torstr. 125\, Berlin\, 10119\, Germany
CATEGORIES:Free,Kids Friendly,Pet Friendly,Portrait Drawing
ATTACH;FMTTYPE=image/jpeg:https://creativesessions.art/wp-content/uploads/2019/08/65915354_662713034140320_7095571309144309760_o.jpg
END:VEVENT
BEGIN:VEVENT
DTSTART;TZID=UTC:20190824T160000
DTEND;TZID=UTC:20190824T183000
DTSTAMP:20260423T115414
CREATED:20190819T174551Z
LAST-MODIFIED:20210310T173906Z
UID:111-1566662400-1566671400@creativesessions.art
SUMMARY:Flexible Life Drawing Session
DESCRIPTION:[EN/DE]\nJoin us for a flexible life drawing session. We will draw for 2 hours a nude model in various short and long poses! The model will take flexible and academic poses! \nCost:\n8 Euros\nPay with Cash or Card at the event.\n[ Reserve a spot at the Ticket-Link ]\nhttps://www.meetup.com/creativesessions/events/263828428/ \nSession Structure:\n-Part A Poses\, 60 mins\n-Break\, 15 mins\n-Part B Poses\, 60 mins\n-Discussion \nAt the end we will discuss over our drawings and know each other more! \n// DEUTSCH //\nBegleite uns in einer lockere Aktzeichnung Session! Wir werden für 2 Stunden ein Aktmodell in verschiedenen kurze und längen Posen zeichnen! Das Modell werden flexible Posen haben! \nKosten:\n8 Euro\nBargeld oder Karte\, zahlen Sie bei der Veranstaltung.\n[ Reservieren Sie ein Ticket über den Meetup-Link ]\nhttps://www.meetup.com/creativesessions/events/263828428/ \nSession Struktur:\n-Teil A Posen\, 60 min\n-Pause\, 15 min\n-Teil B Posen\, 60 min\n-Diskussion \nGegen Ende der Session besprechen und beurteilen wir die Zeichnungen. \nFAQs\nTutor?\nThe drawing tutor for the event will be the artist Miltos Despoudis.\nCheck out his work here http://miltosdespoudis.gr \nWhere?\nAt “The.Word.Berlin” :\nThe word is a Literature Cafe and Lending Library\, Craft Beer Bar\, Event and Co-working space\, featuring books on Black\, P.O.C. and LGBTQ experience. \nIs it suitable for beginners?\nYes! Actually\, artists of all levels can do this kind of exercise. \nWhat should I bring?\nBring your own art materials. Anything is allowed. We expect that most people will use pencils\, charcoal and watercolors! We can provide wooden panels for support\, sizes 50×70\, and some easels! \nDisclaimer!\nBy attending this event you agree that photos & videos are allowed to be taken. These media might be used in social media posts\, for the future promotion of events like this. \n// DEUTSCH // \nKursleiter?\nDer Leiter der drawing- session ist der Künstler Miltos Despoudis.\nSchauen Sie sich seine Arbeit hier an:\nhttp://miltosdespoudis.gr \nWo?\nIm “The.Word.Berlin”.\nDas “The.Word.Berlin” ist ein Cafe\, Bar und Co-Working space mit einer kleinen Bibliothek für multikulturelle Interessenten und Bücher über Black\, P.O.C. und LGBTQ! \nIst die Veranstaltung für Anfänger geeignet?\nJa! Jeder der Lust am zeichnen hat kann mitmachen. \nWas soll ich mitbringen?\nBring dein eigenes Kunstmaterial mit! Alles ist erlaubt! Bleistift\, Wasserfarben\, Pastel u.s.w. Staffelei und Zeichenbrett stellen wir zur Verfügung. \nBitte Beachten!\nMit der Teilnahme stimmst du zu\, dass Fotos & Videos gemacht werden dürfen! Es besteht die Möglichkeit\, dass diese Medien in Social Media Posts erscheinen um zukünftige Veranstaltungen wie diese zu promoten!
URL:https://creativesessions.art/event/flexible-life-drawing-session/
LOCATION:The Word\, Willmanndamm 4\, Berlin\, 10827\, Germany
CATEGORIES:Adult Content,Life Drawing,Ticket
ATTACH;FMTTYPE=image/jpeg:https://creativesessions.art/wp-content/uploads/2019/08/68765705_683551962056427_8826428681162326016_o.jpg
END:VEVENT
BEGIN:VEVENT
DTSTART;TZID=UTC:20190824T123000
DTEND;TZID=UTC:20190824T153000
DTSTAMP:20260423T115414
CREATED:20190819T170857Z
LAST-MODIFIED:20190819T172311Z
UID:101-1566649800-1566660600@creativesessions.art
SUMMARY:Small Portrait Drawing Session
DESCRIPTION:[EN/DE]\nJoin us for an small portrait drawing session. We will draw for ~3 hours each other! You can join at any time during the event. You can also choose to only pose for the others! \nThe event is free! Please also Check-in at out Meetup page. It helps bringing more people! \nAfter two hours a life drawing session starts at the same place in another room. The life drawing is separate event that you will need to make an additional check in. Usually there is a small fee for it. \n// DEUTSCH // \nBegleite uns in einer kleiner Porträt Drawing Session! Wir werden für ca. 2 Stunden gegenseitig zeichnen! Sie können jederzeit während der Veranstaltung teilnehmen. Sie können auch\, nur für die anderen posieren! \nFrei! Bitte melde dich über unseren Meetup-Link an. Es hilft wirklich\, mehr Leute zu bringen! \nNach zwei Stunden beginnt eine Aktzeichnung an derselben Stelle in einem anderen Raum. Bei der Aktzeichnung handelt es sich um ein separates Ereignis\, für das Sie einen zusätzlichen Check-in durchführen müssen. Normalerweise wird dafür eine Ticketgebühr erhoben. \nFAQs\nTutor?\nThe drawing tutor for the event will be the artist Miltos Despoudis.\nCheck out his work here http://miltosdespoudis.gr \nWhere is it happening?\nAt “The.Word.Berlin” :\nThe word is a Literature Cafe and Lending Library\, Craft Beer Bar\, Event and Co-working space\, featuring books on Black\, P.O.C. and LGBTQ experience. \nIs it suitable for beginners?\nYes! \nWhat should I bring?\nBring your own art materials. Anything is allowed. We expect that most people will use pencils\, charcoal and watercolors! \nDisclaimer!\nBy attending this event you agree that a few photos are allowed to be taken. These photos might be used in social media posts\, for the future promotion of events like this. \n// DEUTSCH // \nKursleiter?\nDer Leiter der drawing- session ist der Künstler Miltos Despoudis.\nSchauen Sie sich seine Arbeit hier an:\nhttp://miltosdespoudis.gr \nWo?\nIm “The.Word.Berlin”.\nDas “The.Word.Berlin” ist ein Cafe\, Bar und Co-Working space mit einer kleinen Bibliothek für multikulturelle Interessenten und Bücher über Black\, P.O.C. und LGBTQ! \nIst die Veranstaltung für Anfänger geeignet?\nJa! \nWas soll ich mitbringen?\nBring dein eigenes Kunstmaterial mit! Alles ist erlaubt! Bleistift\, Wasserfarben\, Pastel u.s.w. Staffelei und Zeichenbrett stellen wir zur Verfügung. \nBitte Beachten!\nMit der Teilnahme stimmst du zu\, dass einige Fotos gemacht werden dürfen! Es besteht die Möglichkeit\, dass einige Bilder in Social Media Posts erscheinen um zukünftige Veranstaltungen wie diese zu promoten!
URL:https://creativesessions.art/event/small-portrait-drawing-session/
LOCATION:The Word\, Willmanndamm 4\, Berlin\, 10827\, Germany
CATEGORIES:Free,Kids Friendly,Pet Friendly,Portrait Drawing
ATTACH;FMTTYPE=image/jpeg:https://creativesessions.art/wp-content/uploads/2019/08/67627647_683549655389991_3441745504046678016_o.jpg
END:VEVENT
END:VCALENDAR