BEGIN:VCALENDAR
VERSION:2.0
PRODID:-//Creative Sessions - ECPv6.15.20//NONSGML v1.0//EN
CALSCALE:GREGORIAN
METHOD:PUBLISH
X-WR-CALNAME:Creative Sessions
X-ORIGINAL-URL:https://creativesessions.art
X-WR-CALDESC:Events for Creative Sessions
REFRESH-INTERVAL;VALUE=DURATION:PT1H
X-Robots-Tag:noindex
X-PUBLISHED-TTL:PT1H
BEGIN:VTIMEZONE
TZID:UTC
BEGIN:STANDARD
TZOFFSETFROM:+0000
TZOFFSETTO:+0000
TZNAME:UTC
DTSTART:20180101T000000
END:STANDARD
END:VTIMEZONE
BEGIN:VEVENT
DTSTART;TZID=UTC:20210711T110000
DTEND;TZID=UTC:20210711T130000
DTSTAMP:20260422T135142
CREATED:20210630T200627Z
LAST-MODIFIED:20210630T200627Z
UID:1364-1626001200-1626008400@creativesessions.art
SUMMARY:MHAS Drawing Session [#28] Online & Inperson (Berlin)
DESCRIPTION:We meet and sketch each other\, at a park in Berlin and at the same time do the Online event via Zoom! You can either join by coming at the park or connect online with a webcam. \nAbout the Inperson Group\nWe meet at 11:00AM in front of the cafe-bar Mein Haus Am See in Berlin\, Germany. [Address: Brunnenstraße 197-198\, 10119 Berlin]. \nAfter 10 mins we will walk towards the nearest park\, Volkspark am Weinberg. \nAbout the Online Group\nWe will be using Zoom for the video calls with the online event. The zoom link will be sent to you via email before the event starts \nA webcam is required for the event. Make sure that you have a functional webcam and adequate lighting in the scene. \nHow Does It Work?\nThis event is simple\, we meet and sketch each other doing portraits. Most of the participants use pencils or watercolors. Main aim is to socialize while we draw. There will be plenty of time to talk and get to know each other. We have to mention that this event is suitable for all levels. Many have started to draw in our event actually. \nStructure\nA. Warmup Phase: We pose to each other for 1 minute. \nB. Main Phase: We pose to each other for 10 minutes. \nC. Showcase Phase: We show some of the drawings we did to each other. \nWho We Are\nCreative Sessions is an art events group located in Berlin. We are very happy to collaborate with Paris Drawing Meetup and Drink & Draw Paris to bring you this event. We will be cohosting it together for this Sunday\, One Zoom meeting for Berlin and Paris. Find their meetup groups to follow below. \nParis Drawing Meetup \nhttps://www.meetup.com/Paris-Drawing-Meetup/ \nDrink & Draw Paris \nhttps://www.meetup.com/fr-FR/Meetup-Art-collectif-Paris \nTickets & Reservation\nReserve a spot in one of the following links: \nEventbrite\nhttps://www.eventbrite.com/o/creative-sessions-19077256508 \nMeetup Group\nhttps://www.meetup.com/creativesessions/events/ \nFacebook Page\nhttps://www.facebook.com/pg/CreativeSessions/
URL:https://creativesessions.art/event/mhas-drawing-session-28-online-inperson-berlin/
LOCATION:The Volkspark am Weinberg\, Weinbergsweg 14-20\, Berlin\, 10119\, Germany
CATEGORIES:Donation,Free,In Person,Kids Friendly,Online,Pet Friendly,Portrait Drawing
ATTACH;FMTTYPE=image/jpeg:https://creativesessions.art/wp-content/uploads/2020/10/MeetupCover_MHAS_online.jpg
END:VEVENT
BEGIN:VEVENT
DTSTART;TZID=UTC:20210704T110000
DTEND;TZID=UTC:20210704T130000
DTSTAMP:20260422T135142
CREATED:20210630T200501Z
LAST-MODIFIED:20210630T200501Z
UID:1361-1625396400-1625403600@creativesessions.art
SUMMARY:MHAS Drawing Session [#27 Picathartes] Online & Inperson (Berlin)
DESCRIPTION:We meet and sketch each other\, at a park in Berlin and at the same time do the Online event via Zoom! You can either join by coming at the park or connect online with a webcam. \nAbout the Inperson Group\nWe meet at 11:00AM in front of the cafe-bar Mein Haus Am See in Berlin\, Germany. [Address: Brunnenstraße 197-198\, 10119 Berlin]. \nAfter 10 mins we will walk towards the nearest park\, Volkspark am Weinberg. \nAbout the Online Group\nWe will be using Zoom for the video calls with the online event. The zoom link will be sent to you via email before the event starts \nA webcam is required for the event. Make sure that you have a functional webcam and adequate lighting in the scene. \nHow Does It Work?\nThis event is simple\, we meet and sketch each other doing portraits. Most of the participants use pencils or watercolors. Main aim is to socialize while we draw. There will be plenty of time to talk and get to know each other. We have to mention that this event is suitable for all levels. Many have started to draw in our event actually. \nStructure\nA. Warmup Phase: We pose to each other for 1 minute. \nB. Main Phase: We pose to each other for 10 minutes. \nC. Showcase Phase: We show some of the drawings we did to each other. \nWho We Are\nCreative Sessions is an art events group located in Berlin. We are very happy to collaborate with Paris Drawing Meetup and Drink & Draw Paris to bring you this event. We will be cohosting it together for this Sunday\, One Zoom meeting for Berlin and Paris. Find their meetup groups to follow below. \nParis Drawing Meetup \nhttps://www.meetup.com/Paris-Drawing-Meetup/ \nDrink & Draw Paris \nhttps://www.meetup.com/fr-FR/Meetup-Art-collectif-Paris \nTickets & Reservation\nReserve a spot in one of the following links: \nEventbrite\nhttps://www.eventbrite.com/o/creative-sessions-19077256508 \nMeetup Group\nhttps://www.meetup.com/creativesessions/events/ \nFacebook Page\nhttps://www.facebook.com/pg/CreativeSessions/
URL:https://creativesessions.art/event/mhas-drawing-session-27-picathartes-online-inperson-berlin/
LOCATION:The Volkspark am Weinberg\, Weinbergsweg 14-20\, Berlin\, 10119\, Germany
CATEGORIES:Donation,Free,In Person,Kids Friendly,Online,Pet Friendly,Portrait Drawing
ATTACH;FMTTYPE=image/jpeg:https://creativesessions.art/wp-content/uploads/2020/10/MeetupCover_MHAS_online.jpg
END:VEVENT
BEGIN:VEVENT
DTSTART;TZID=UTC:20200124T190000
DTEND;TZID=UTC:20200124T220000
DTSTAMP:20260422T135142
CREATED:20200106T044327Z
LAST-MODIFIED:20210310T174013Z
UID:482-1579892400-1579903200@creativesessions.art
SUMMARY:Gathering Session - Drawing\, Board Games & More
DESCRIPTION:Gathering event for Creative Sessions. A place for us to draw\, play games and socialize as humans! Each table will be used for one of the various activities. \nYou can join at any time. Come even if you are very late! \nWe will do these:\n-Drawing and Art\n-Board Games\n-Discussions \nDonations are welcome! \nBring your Board Games!\nWe will have a few board games but you are advised to also bring 1-2 portable games so that we have options. \nBring Friends!\nYou could come with your friends and spend the night there with us. Lonely people are welcome too! \nAny ideas and suggestions are welcome!\nSend us a PM or comment below. \nGame Options so far:\n-Jenga\n-Cards Against Humanity\n-Colt Express\n-Normal Cards\n-Uno\n-Domino\n-Mahjong Tiles\n-Carcassone\n-Blokus\n-Bananagram\n-Magic Maze\n-Monopoly Classic\n-Mafia
URL:https://creativesessions.art/event/gathering-session-drawing-board-games-more/
LOCATION:The Word\, Willmanndamm 4\, Berlin\, 10827\, Germany
CATEGORIES:Donation,Free,Gathering,Kids Friendly,Pet Friendly
ATTACH;FMTTYPE=image/jpeg:https://creativesessions.art/wp-content/uploads/2020/01/meetgatrh.jpg
END:VEVENT
BEGIN:VEVENT
DTSTART;TZID=UTC:20191224T180000
DTEND;TZID=UTC:20191224T230000
DTSTAMP:20260422T135142
CREATED:20191218T222620Z
LAST-MODIFIED:20210310T174013Z
UID:446-1577210400-1577228400@creativesessions.art
SUMMARY:Gathering Session - Drawing\, Board Games\, Films & More - Christmas Theme
DESCRIPTION:First gathering event for Creative Sessions! This is an event with a variety of activities\, most of them assigned per table. There will be also a projector playing in the background with various funny videos\, music\, video games\, and short films. \nWe will have tables designated for various activities such as:\n-Drawing and Art\n-Board Games\n-Discussions \nDonations are welcome! \nBring your own drinks and food!\nWe are allowed to bring our own drinks to the space. There might be the option to buy some drinks from the bar too. \nBring your Board Games!\nWe will have a few board games but you are advised to also bring 1-2 portable games so that we have options. \nBring Friends!\nYou could come with your friends and spend the night there with us. Lonely people are welcome too! There will be opportunities to join a table with one of the activities or just lay back and watch at the videos that are shown. \nSchedule\n18:00-20:30 Open Tables Activities\n21:00-22:00 Short Videos on Projector\n22:00-23:00 Open Tables Activities \nAny ideas and suggestions are welcome!\nSend us a PM.\nWe will have availiable 2x Microphones\, a Projector with Screen\, and Various Board games.
URL:https://creativesessions.art/event/gathering-session-drawing-board-games-films-more-christmas-theme/
LOCATION:The Word\, Willmanndamm 4\, Berlin\, 10827\, Germany
CATEGORIES:Donation,Free,Gathering,Pet Friendly
ATTACH;FMTTYPE=image/jpeg:https://creativesessions.art/wp-content/uploads/2019/12/Meetup_Banner03a.jpg
END:VEVENT
BEGIN:VEVENT
DTSTART;TZID=UTC:20190928T200000
DTEND;TZID=UTC:20190928T220000
DTSTAMP:20260422T135142
CREATED:20190922T193755Z
LAST-MODIFIED:20210310T173905Z
UID:304-1569700800-1569708000@creativesessions.art
SUMMARY:Music & Drawing Session
DESCRIPTION:On Saturday 28th of September we will be drawing the musicians playing!\nWe will have a table reserved for us and a nice view to do our drawings.\nPlease check in so that I know how many seats to reserve! \nMore information about the event that we will spying on:\nThere will be a music performance from Phil Shoenfelt-Baron Anastis.\nhttps://www.facebook.com/events/2327740330875660/\nMusic starts at 20:00 it is free-donation based. \n= FAQs = \nWhere is it happening?\nAt “The.Word.Berlin” :\nThe word is a Literature Cafe and Lending Library\, Craft Beer Bar\, Event and Co-working space\, featuring books on Black\, P.O.C. and LGBTQ experience. \nWhat should I bring?\nBring your own art materials. Anything is allowed. We expect that most people will use pencils\, charcoal and watercolors!
URL:https://creativesessions.art/event/music-drawing-session/
LOCATION:The Word\, Willmanndamm 4\, Berlin\, 10827\, Germany
CATEGORIES:Donation,Free,Music Drawing
ATTACH;FMTTYPE=image/jpeg:https://creativesessions.art/wp-content/uploads/2019/09/Meetup_Banner-2.jpg
END:VEVENT
END:VCALENDAR